BEGIN:VCALENDAR
VERSION:2.0
PRODID:icalendar-ruby
CALSCALE:GREGORIAN
BEGIN:VTIMEZONE
TZID:America/Los_Angeles
BEGIN:DAYLIGHT
DTSTART:20260308T030000
TZOFFSETFROM:-0800
TZOFFSETTO:-0700
RRULE:FREQ=YEARLY;BYDAY=2SU;BYMONTH=3
TZNAME:PDT
END:DAYLIGHT
BEGIN:STANDARD
DTSTART:20261101T010000
TZOFFSETFROM:-0700
TZOFFSETTO:-0800
RRULE:FREQ=YEARLY;BYDAY=1SU;BYMONTH=11
TZNAME:PST
END:STANDARD
END:VTIMEZONE
BEGIN:VEVENT
DTSTAMP:20260422T121156Z
UID:https://rivers-east.helpfulvillage.com/events/2705
DTSTART;TZID=America/Los_Angeles:20260619T100000
DTEND;TZID=America/Los_Angeles:20260619T113000
CLASS:PRIVATE
CREATED:20260421T160800
DESCRIPTION:
LAST-MODIFIED:20260421T162444
LOCATION:Grandma's Corner Kitchen\, 10880 SE McLoughlin Blvd\, Milwaukie\, 
 OR 97222
SUMMARY:Village event: 3rd Friday Coffee
URL;VALUE=URI:https://rivers-east.helpfulvillage.com/events/2705
END:VEVENT
END:VCALENDAR
